BEGIN:VCALENDAR
VERSION:2.0
PRODID:-//Colorado QMAP Training - ECPv6.15.20//NONSGML v1.0//EN
CALSCALE:GREGORIAN
METHOD:PUBLISH
X-WR-CALNAME:Colorado QMAP Training
X-ORIGINAL-URL:https://qmapclass.com
X-WR-CALDESC:Events for Colorado QMAP Training
REFRESH-INTERVAL;VALUE=DURATION:PT1H
X-Robots-Tag:noindex
X-PUBLISHED-TTL:PT1H
BEGIN:VTIMEZONE
TZID:America/Denver
BEGIN:DAYLIGHT
TZOFFSETFROM:-0700
TZOFFSETTO:-0600
TZNAME:MDT
DTSTART:20250309T090000
END:DAYLIGHT
BEGIN:STANDARD
TZOFFSETFROM:-0600
TZOFFSETTO:-0700
TZNAME:MST
DTSTART:20251102T080000
END:STANDARD
BEGIN:DAYLIGHT
TZOFFSETFROM:-0700
TZOFFSETTO:-0600
TZNAME:MDT
DTSTART:20260308T090000
END:DAYLIGHT
BEGIN:STANDARD
TZOFFSETFROM:-0600
TZOFFSETTO:-0700
TZNAME:MST
DTSTART:20261101T080000
END:STANDARD
BEGIN:DAYLIGHT
TZOFFSETFROM:-0700
TZOFFSETTO:-0600
TZNAME:MDT
DTSTART:20270314T090000
END:DAYLIGHT
BEGIN:STANDARD
TZOFFSETFROM:-0600
TZOFFSETTO:-0700
TZNAME:MST
DTSTART:20271107T080000
END:STANDARD
END:VTIMEZONE
BEGIN:VEVENT
DTSTART;TZID=America/Denver:20260422T090000
DTEND;TZID=America/Denver:20260422T130000
DTSTAMP:20260422T213735
CREATED:20260330T164335Z
LAST-MODIFIED:20260330T164414Z
UID:10002556-1776848400-1776862800@qmapclass.com
SUMMARY:ONLINE COURSES – ZOOM TESTING
DESCRIPTION:Instructor: Michelle Anderson\, RN
URL:https://qmapclass.com/class/online-courses-zoom-testing-228/
LOCATION:THIS DATE IS YOUR ZOOM TESTING SESSION (STEP 3)\, BOTH eLEARNINGS MUST BE COMPLETED TO JOIN
CATEGORIES:QMAP Online Course / Zoom Testing Class,QMAP Online Refresher Course / Zoom Testing Class,QMAP Retesting Only,QMAP Test Rescheduling
END:VEVENT
BEGIN:VEVENT
DTSTART;TZID=America/Denver:20260422T090000
DTEND;TZID=America/Denver:20260423T163000
DTSTAMP:20260422T213735
CREATED:20260106T203341Z
LAST-MODIFIED:20260106T203341Z
UID:10002456-1776848400-1776961800@qmapclass.com
SUMMARY:QMAP In Person Course – Arvada
DESCRIPTION:Instructor: Sharon Tynsky\, LPN \n  \nHOURS: \nDAY1\, 9AM TO 430 PM\, \nDAY 2\, 9AM TO COMPLETION (APPROX 1:30PM)
URL:https://qmapclass.com/class/qmap-in-person-course-arvada-4/
LOCATION:Arvada – Applewood Our House\, 6595 Garrison Street\, Arvada\, CO\, 80004
CATEGORIES:QMAP Standard 2-day Class
END:VEVENT
BEGIN:VEVENT
DTSTART;TZID=America/Denver:20260422T090000
DTEND;TZID=America/Denver:20260423T163000
DTSTAMP:20260422T213735
CREATED:20260404T232219Z
LAST-MODIFIED:20260404T233353Z
UID:10002584-1776848400-1776961800@qmapclass.com
SUMMARY:QMAP In Person Course – Fort Collins
DESCRIPTION:HOURS: \nDAY1\, 9AM TO 430 PM\, \nDAY 2\, 9AM TO COMPLETION (APPROX 1:00PM)
URL:https://qmapclass.com/class/qmap-in-person-course-fort-collins-2/
LOCATION:Council Tree Covenant Church\, 4825 S Lemay Ave\, Fort Collins\, CO\, 80525\, United States
CATEGORIES:QMAP Standard 2-day Class
END:VEVENT
BEGIN:VEVENT
DTSTART;TZID=America/Denver:20260422T130000
DTEND;TZID=America/Denver:20260422T170000
DTSTAMP:20260422T213735
CREATED:20260304T183551Z
LAST-MODIFIED:20260415T155922Z
UID:10002548-1776862800-1776877200@qmapclass.com
SUMMARY:ONLINE COURSES - ZOOM TESTING
DESCRIPTION:Instructor: Zach Goodbread\, RN BSN
URL:https://qmapclass.com/class/online-courses-zoom-testing-223/
LOCATION:THIS DATE IS YOUR ZOOM TESTING SESSION (STEP 3)\, BOTH eLEARNINGS MUST BE COMPLETED TO JOIN
CATEGORIES:QMAP Online Course / Zoom Testing Class,QMAP Online Refresher Course / Zoom Testing Class,QMAP Retesting Only,QMAP Test Rescheduling
ATTACH;FMTTYPE=image/png:https://qmapclass.com/wp-content/uploads/2021/12/QMAP.png
END:VEVENT
END:VCALENDAR