BEGIN:VCALENDAR
VERSION:2.0
PRODID:-//Colorado QMAP Training - ECPv6.15.20//NONSGML v1.0//EN
CALSCALE:GREGORIAN
METHOD:PUBLISH
X-WR-CALNAME:Colorado QMAP Training
X-ORIGINAL-URL:https://qmapclass.com
X-WR-CALDESC:Events for Colorado QMAP Training
REFRESH-INTERVAL;VALUE=DURATION:PT1H
X-Robots-Tag:noindex
X-PUBLISHED-TTL:PT1H
BEGIN:VTIMEZONE
TZID:America/Denver
BEGIN:DAYLIGHT
TZOFFSETFROM:-0700
TZOFFSETTO:-0600
TZNAME:MDT
DTSTART:20230312T090000
END:DAYLIGHT
BEGIN:STANDARD
TZOFFSETFROM:-0600
TZOFFSETTO:-0700
TZNAME:MST
DTSTART:20231105T080000
END:STANDARD
BEGIN:DAYLIGHT
TZOFFSETFROM:-0700
TZOFFSETTO:-0600
TZNAME:MDT
DTSTART:20240310T090000
END:DAYLIGHT
BEGIN:STANDARD
TZOFFSETFROM:-0600
TZOFFSETTO:-0700
TZNAME:MST
DTSTART:20241103T080000
END:STANDARD
BEGIN:DAYLIGHT
TZOFFSETFROM:-0700
TZOFFSETTO:-0600
TZNAME:MDT
DTSTART:20250309T090000
END:DAYLIGHT
BEGIN:STANDARD
TZOFFSETFROM:-0600
TZOFFSETTO:-0700
TZNAME:MST
DTSTART:20251102T080000
END:STANDARD
END:VTIMEZONE
BEGIN:VEVENT
DTSTART;TZID=America/Denver:20240106T083000
DTEND;TZID=America/Denver:20240106T130000
DTSTAMP:20260419T102539
CREATED:20240103T173156Z
LAST-MODIFIED:20240103T173911Z
UID:10000601-1704529800-1704546000@qmapclass.com
SUMMARY:ONLINE COURSE - IN PERSON TESTING - LONGMONT CO
DESCRIPTION:ONLINE COURSE – IN PERSON TESTING – LONGMONT CO
URL:https://qmapclass.com/class/online-course-in-person-testing-longmont-co-10/
LOCATION:QMAP Training Center\, 1361 Francis St. STE B-107\, Longmont\, CO\, 80501\, United States
CATEGORIES:QMAP SELF PACED Online Course – Scheduled in Person Written and Practicum Testing
END:VEVENT
BEGIN:VEVENT
DTSTART;TZID=America/Denver:20240109T130000
DTEND;TZID=America/Denver:20240109T170000
DTSTAMP:20260419T102539
CREATED:20231214T221747Z
LAST-MODIFIED:20231215T043909Z
UID:10000585-1704805200-1704819600@qmapclass.com
SUMMARY:ONLINE COURSE - IN PERSON TESTING - CARBONDALE CO
DESCRIPTION:
URL:https://qmapclass.com/class/online-course-in-person-testing-carbondale-co-4/
LOCATION:Sopris Lodge\, 295 Rio Grande Ave\, Carbondale\, CO\, 81623
CATEGORIES:QMAP SELF PACED Online Course – Scheduled in Person Written and Practicum Testing
END:VEVENT
BEGIN:VEVENT
DTSTART;TZID=America/Denver:20240111T090000
DTEND;TZID=America/Denver:20240111T133000
DTSTAMP:20260419T102539
CREATED:20240103T173653Z
LAST-MODIFIED:20240103T174414Z
UID:10000602-1704963600-1704979800@qmapclass.com
SUMMARY:ONLINE COURSE - IN PERSON TESTING - LONGMONT CO
DESCRIPTION:
URL:https://qmapclass.com/class/online-course-in-person-testing-longmont-co-11/
LOCATION:QMAP Training Center\, 1361 Francis St. STE B-107\, Longmont\, CO\, 80501\, United States
CATEGORIES:QMAP SELF PACED Online Course – Scheduled in Person Written and Practicum Testing
END:VEVENT
BEGIN:VEVENT
DTSTART;TZID=America/Denver:20240120T083000
DTEND;TZID=America/Denver:20240120T130000
DTSTAMP:20260419T102539
CREATED:20240103T174701Z
LAST-MODIFIED:20240103T174734Z
UID:10000603-1705739400-1705755600@qmapclass.com
SUMMARY:ONLINE COURSE - IN PERSON TESTING - LONGMONT CO
DESCRIPTION:
URL:https://qmapclass.com/class/online-course-in-person-testing-longmont-co-12/
LOCATION:QMAP Training Center\, 1361 Francis St. STE B-107\, Longmont\, CO\, 80501\, United States
CATEGORIES:QMAP SELF PACED Online Course – Scheduled in Person Written and Practicum Testing
END:VEVENT
BEGIN:VEVENT
DTSTART;TZID=America/Denver:20240123T090000
DTEND;TZID=America/Denver:20240123T133000
DTSTAMP:20260419T102539
CREATED:20240103T175009Z
LAST-MODIFIED:20240103T175009Z
UID:10000604-1706000400-1706016600@qmapclass.com
SUMMARY:ONLINE COURSE - IN PERSON TESTING - LONGMONT CO
DESCRIPTION:
URL:https://qmapclass.com/class/online-course-in-person-testing-longmont-co-13/
LOCATION:QMAP Training Center\, 1361 Francis St. STE B-107\, Longmont\, CO\, 80501\, United States
CATEGORIES:QMAP SELF PACED Online Course – Scheduled in Person Written and Practicum Testing
END:VEVENT
END:VCALENDAR