BEGIN:VCALENDAR
VERSION:2.0
PRODID:-//Colorado QMAP Training - ECPv6.15.20//NONSGML v1.0//EN
CALSCALE:GREGORIAN
METHOD:PUBLISH
X-WR-CALNAME:Colorado QMAP Training
X-ORIGINAL-URL:https://qmapclass.com
X-WR-CALDESC:Events for Colorado QMAP Training
REFRESH-INTERVAL;VALUE=DURATION:PT1H
X-Robots-Tag:noindex
X-PUBLISHED-TTL:PT1H
BEGIN:VTIMEZONE
TZID:America/Denver
BEGIN:DAYLIGHT
TZOFFSETFROM:-0700
TZOFFSETTO:-0600
TZNAME:MDT
DTSTART:20230312T090000
END:DAYLIGHT
BEGIN:STANDARD
TZOFFSETFROM:-0600
TZOFFSETTO:-0700
TZNAME:MST
DTSTART:20231105T080000
END:STANDARD
BEGIN:DAYLIGHT
TZOFFSETFROM:-0700
TZOFFSETTO:-0600
TZNAME:MDT
DTSTART:20240310T090000
END:DAYLIGHT
BEGIN:STANDARD
TZOFFSETFROM:-0600
TZOFFSETTO:-0700
TZNAME:MST
DTSTART:20241103T080000
END:STANDARD
BEGIN:DAYLIGHT
TZOFFSETFROM:-0700
TZOFFSETTO:-0600
TZNAME:MDT
DTSTART:20250309T090000
END:DAYLIGHT
BEGIN:STANDARD
TZOFFSETFROM:-0600
TZOFFSETTO:-0700
TZNAME:MST
DTSTART:20251102T080000
END:STANDARD
END:VTIMEZONE
BEGIN:VEVENT
DTSTART;TZID=America/Denver:20240105T090000
DTEND;TZID=America/Denver:20240106T000000
DTSTAMP:20260420T014043
CREATED:20231210T162429Z
LAST-MODIFIED:20231215T045637Z
UID:10000581-1704445200-1704499200@qmapclass.com
SUMMARY:QMAP In Person Course - Longmont Colorado
DESCRIPTION:
URL:https://qmapclass.com/class/qmap-in-person-course-longmont-colorado-24/
LOCATION:QMAP Training Center\, 1361 Francis St. STE B-107\, Longmont\, CO\, 80501\, United States
CATEGORIES:QMAP Standard 2-day Class
END:VEVENT
BEGIN:VEVENT
DTSTART;TZID=America/Denver:20240110T090000
DTEND;TZID=America/Denver:20240111T000000
DTSTAMP:20260420T014043
CREATED:20231210T162234Z
LAST-MODIFIED:20231215T044106Z
UID:10000580-1704877200-1704931200@qmapclass.com
SUMMARY:QMAP In Person Course - Longmont Colorado
DESCRIPTION:
URL:https://qmapclass.com/class/qmap-in-person-course-longmont-colorado-23/
LOCATION:QMAP Training Center\, 1361 Francis St. STE B-107\, Longmont\, CO\, 80501\, United States
CATEGORIES:QMAP Standard 2-day Class
END:VEVENT
BEGIN:VEVENT
DTSTART;TZID=America/Denver:20240119T090000
DTEND;TZID=America/Denver:20240120T000000
DTSTAMP:20260420T014043
CREATED:20231211T043438Z
LAST-MODIFIED:20240103T173953Z
UID:10000583-1705654800-1705708800@qmapclass.com
SUMMARY:QMAP In Person Course - Longmont Colorado
DESCRIPTION:
URL:https://qmapclass.com/class/qmap-in-person-course-longmont-colorado-26/
LOCATION:QMAP Training Center\, 1361 Francis St. STE B-107\, Longmont\, CO\, 80501\, United States
CATEGORIES:QMAP Standard 2-day Class
END:VEVENT
BEGIN:VEVENT
DTSTART;TZID=America/Denver:20240122T090000
DTEND;TZID=America/Denver:20240123T000000
DTSTAMP:20260420T014043
CREATED:20231210T162746Z
LAST-MODIFIED:20231215T045552Z
UID:10000582-1705914000-1705968000@qmapclass.com
SUMMARY:QMAP In Person Course - Longmont Colorado
DESCRIPTION:
URL:https://qmapclass.com/class/qmap-in-person-course-longmont-colorado-25/
LOCATION:QMAP Training Center\, 1361 Francis St. STE B-107\, Longmont\, CO\, 80501\, United States
CATEGORIES:QMAP Standard 2-day Class
END:VEVENT
END:VCALENDAR