BEGIN:VCALENDAR
VERSION:2.0
PRODID:-//Colorado QMAP Training - ECPv6.15.20//NONSGML v1.0//EN
CALSCALE:GREGORIAN
METHOD:PUBLISH
X-WR-CALNAME:Colorado QMAP Training
X-ORIGINAL-URL:https://qmapclass.com
X-WR-CALDESC:Events for Colorado QMAP Training
REFRESH-INTERVAL;VALUE=DURATION:PT1H
X-Robots-Tag:noindex
X-PUBLISHED-TTL:PT1H
BEGIN:VTIMEZONE
TZID:America/Denver
BEGIN:DAYLIGHT
TZOFFSETFROM:-0700
TZOFFSETTO:-0600
TZNAME:MDT
DTSTART:20240310T090000
END:DAYLIGHT
BEGIN:STANDARD
TZOFFSETFROM:-0600
TZOFFSETTO:-0700
TZNAME:MST
DTSTART:20241103T080000
END:STANDARD
BEGIN:DAYLIGHT
TZOFFSETFROM:-0700
TZOFFSETTO:-0600
TZNAME:MDT
DTSTART:20250309T090000
END:DAYLIGHT
BEGIN:STANDARD
TZOFFSETFROM:-0600
TZOFFSETTO:-0700
TZNAME:MST
DTSTART:20251102T080000
END:STANDARD
BEGIN:DAYLIGHT
TZOFFSETFROM:-0700
TZOFFSETTO:-0600
TZNAME:MDT
DTSTART:20260308T090000
END:DAYLIGHT
BEGIN:STANDARD
TZOFFSETFROM:-0600
TZOFFSETTO:-0700
TZNAME:MST
DTSTART:20261101T080000
END:STANDARD
END:VTIMEZONE
BEGIN:VEVENT
DTSTART;TZID=America/Denver:20250402T090000
DTEND;TZID=America/Denver:20250403T170000
DTSTAMP:20260420T045310
CREATED:20250312T151424Z
LAST-MODIFIED:20250401T223723Z
UID:10001371-1743584400-1743699600@qmapclass.com
SUMMARY:QMAP In Person Course – Longmont Colorado
DESCRIPTION:Instructor: Sharon Tynsky\, LPN
URL:https://qmapclass.com/class/qmap-in-person-course-longmont-colorado-92/
LOCATION:QMAP Training Center\, 1361 Francis St. STE B-107\, Longmont\, CO\, 80501\, United States
CATEGORIES:QMAP Standard 2-day Class
ATTACH;FMTTYPE=image/png:https://qmapclass.com/wp-content/uploads/2021/12/QMAP.png
END:VEVENT
BEGIN:VEVENT
DTSTART;TZID=America/Denver:20250411T090000
DTEND;TZID=America/Denver:20250412T170000
DTSTAMP:20260420T045310
CREATED:20250212T233018Z
LAST-MODIFIED:20250219T182903Z
UID:10000962-1744362000-1744477200@qmapclass.com
SUMMARY:QMAP In Person Course - Longmont Colorado
DESCRIPTION:Instructor: Christl Reinig-Everett\, FNP-C
URL:https://qmapclass.com/class/qmap-in-person-course-longmont-colorado-88/
LOCATION:QMAP Training Center\, 1361 Francis St. STE B-107\, Longmont\, CO\, 80501\, United States
CATEGORIES:QMAP Standard 2-day Class
ATTACH;FMTTYPE=image/png:https://qmapclass.com/wp-content/uploads/2021/12/QMAP.png
END:VEVENT
BEGIN:VEVENT
DTSTART;TZID=America/Denver:20250416T090000
DTEND;TZID=America/Denver:20250417T170000
DTSTAMP:20260420T045310
CREATED:20250312T152440Z
LAST-MODIFIED:20250403T021535Z
UID:10001374-1744794000-1744909200@qmapclass.com
SUMMARY:QMAP In Person Course – Longmont Colorado
DESCRIPTION:Instructor: Sharon Tynsky\, LPN
URL:https://qmapclass.com/class/qmap-in-person-course-longmont-colorado-93/
LOCATION:QMAP Training Center\, 1361 Francis St. STE B-107\, Longmont\, CO\, 80501\, United States
CATEGORIES:QMAP Standard 2-day Class
ATTACH;FMTTYPE=image/png:https://qmapclass.com/wp-content/uploads/2021/12/QMAP.png
END:VEVENT
BEGIN:VEVENT
DTSTART;TZID=America/Denver:20250423T090000
DTEND;TZID=America/Denver:20250424T170000
DTSTAMP:20260420T045310
CREATED:20250331T214312Z
LAST-MODIFIED:20250401T225609Z
UID:10001392-1745398800-1745514000@qmapclass.com
SUMMARY:QMAP In Person Course – Arvada Colorado
DESCRIPTION:Instructor: Terry Poellot\, LPN
URL:https://qmapclass.com/class/qmap-in-person-course-arvada-colorado-4/
LOCATION:Arvada – Applewood Our House\, 6595 Garrison Street\, Arvada\, CO\, 80004
CATEGORIES:QMAP Standard 2-day Class
END:VEVENT
BEGIN:VEVENT
DTSTART;TZID=America/Denver:20250425T090000
DTEND;TZID=America/Denver:20250426T170000
DTSTAMP:20260420T045310
CREATED:20250212T233204Z
LAST-MODIFIED:20250219T182929Z
UID:10000963-1745571600-1745686800@qmapclass.com
SUMMARY:QMAP In Person Course - Longmont Colorado
DESCRIPTION:Instructor: Christl Reinig-Everett\, FNP-C
URL:https://qmapclass.com/class/qmap-in-person-course-longmont-colorado-89/
LOCATION:QMAP Training Center\, 1361 Francis St. STE B-107\, Longmont\, CO\, 80501\, United States
CATEGORIES:QMAP Standard 2-day Class
ATTACH;FMTTYPE=image/png:https://qmapclass.com/wp-content/uploads/2021/12/QMAP.png
END:VEVENT
BEGIN:VEVENT
DTSTART;TZID=America/Denver:20250428T080000
DTEND;TZID=America/Denver:20250429T170000
DTSTAMP:20260420T045310
CREATED:20250310T214725Z
LAST-MODIFIED:20250403T140453Z
UID:10001357-1745827200-1745946000@qmapclass.com
SUMMARY:QMAP In Person Course – Longmont Colorado
DESCRIPTION:Instructor: Zach Goodbread\, RN BSN
URL:https://qmapclass.com/class/qmap-in-person-course-longmont-colorado-91/
LOCATION:QMAP Training Center\, 1361 Francis St. STE B-107\, Longmont\, CO\, 80501\, United States
CATEGORIES:QMAP Standard 2-day Class
ATTACH;FMTTYPE=image/png:https://qmapclass.com/wp-content/uploads/2021/12/QMAP.png
END:VEVENT
BEGIN:VEVENT
DTSTART;TZID=America/Denver:20250430T090000
DTEND;TZID=America/Denver:20250501T170000
DTSTAMP:20260420T045310
CREATED:20250312T153025Z
LAST-MODIFIED:20250403T141814Z
UID:10001377-1746003600-1746118800@qmapclass.com
SUMMARY:QMAP In Person Course – Longmont Colorado
DESCRIPTION:Instructor: Sharon Tynsky\, LPN
URL:https://qmapclass.com/class/qmap-in-person-course-longmont-colorado-94/
LOCATION:QMAP Training Center\, 1361 Francis St. STE B-107\, Longmont\, CO\, 80501\, United States
CATEGORIES:QMAP Standard 2-day Class
ATTACH;FMTTYPE=image/png:https://qmapclass.com/wp-content/uploads/2021/12/QMAP.png
END:VEVENT
END:VCALENDAR