BEGIN:VCALENDAR
VERSION:2.0
PRODID:-//Colorado QMAP Training - ECPv6.15.20//NONSGML v1.0//EN
CALSCALE:GREGORIAN
METHOD:PUBLISH
X-ORIGINAL-URL:https://qmapclass.com
X-WR-CALDESC:Events for Colorado QMAP Training
REFRESH-INTERVAL;VALUE=DURATION:PT1H
X-Robots-Tag:noindex
X-PUBLISHED-TTL:PT1H
BEGIN:VTIMEZONE
TZID:America/Denver
BEGIN:DAYLIGHT
TZOFFSETFROM:-0700
TZOFFSETTO:-0600
TZNAME:MDT
DTSTART:20240310T090000
END:DAYLIGHT
BEGIN:STANDARD
TZOFFSETFROM:-0600
TZOFFSETTO:-0700
TZNAME:MST
DTSTART:20241103T080000
END:STANDARD
BEGIN:DAYLIGHT
TZOFFSETFROM:-0700
TZOFFSETTO:-0600
TZNAME:MDT
DTSTART:20250309T090000
END:DAYLIGHT
BEGIN:STANDARD
TZOFFSETFROM:-0600
TZOFFSETTO:-0700
TZNAME:MST
DTSTART:20251102T080000
END:STANDARD
BEGIN:DAYLIGHT
TZOFFSETFROM:-0700
TZOFFSETTO:-0600
TZNAME:MDT
DTSTART:20260308T090000
END:DAYLIGHT
BEGIN:STANDARD
TZOFFSETFROM:-0600
TZOFFSETTO:-0700
TZNAME:MST
DTSTART:20261101T080000
END:STANDARD
END:VTIMEZONE
BEGIN:VEVENT
DTSTART;TZID=America/Denver:20250709T090000
DTEND;TZID=America/Denver:20250710T140000
DTSTAMP:20260419T175434
CREATED:20250516T170602Z
LAST-MODIFIED:20250623T132059Z
UID:10001714-1752051600-1752156000@qmapclass.com
SUMMARY:QMAP In Person Course – Longmont Colorado
DESCRIPTION:Instructor: Sharon Tynsky\, LPN
URL:https://qmapclass.com/class/qmap-in-person-course-longmont-colorado-103/
LOCATION:QMAP Training Center\, 1361 Francis St. STE B-107\, Longmont\, CO\, 80501\, United States
CATEGORIES:QMAP Standard 2-day Class
ATTACH;FMTTYPE=image/png:https://qmapclass.com/wp-content/uploads/2021/12/QMAP.png
END:VEVENT
BEGIN:VEVENT
DTSTART;TZID=America/Denver:20250711T090000
DTEND;TZID=America/Denver:20250712T130000
DTSTAMP:20260419T175435
CREATED:20250516T173855Z
LAST-MODIFIED:20250709T134624Z
UID:10001731-1752224400-1752325200@qmapclass.com
SUMMARY:QMAP In Person Course – Longmont Colorado
DESCRIPTION:Instructor: Sharon Tynsky\, LPN \nHOURS:  DAY1\, 9AM TO 430 PM\, DAY 2\, 9AM TO COMPLETION (APPROX 1:30PM)
URL:https://qmapclass.com/class/qmap-in-person-course-longmont-colorado-106/
LOCATION:QMAP Training Center\, 1361 Francis St. STE B-107\, Longmont\, CO\, 80501\, United States
CATEGORIES:QMAP Standard 2-day Class
ATTACH;FMTTYPE=image/png:https://qmapclass.com/wp-content/uploads/2021/12/QMAP.png
END:VEVENT
BEGIN:VEVENT
DTSTART;TZID=America/Denver:20250718T090000
DTEND;TZID=America/Denver:20250719T170000
DTSTAMP:20260419T175435
CREATED:20250531T210619Z
LAST-MODIFIED:20250709T134705Z
UID:10001754-1752829200-1752944400@qmapclass.com
SUMMARY:QMAP In Person Course – Longmont Colorado
DESCRIPTION:Instructor: Sharon Tynsky\, LPN \nHOURS:  DAY1\, 9AM TO 430 PM\, DAY 2\, 9AM TO COMPLETION (APPROX 1:30PM)
URL:https://qmapclass.com/class/qmap-in-person-course-longmont-colorado-109/
LOCATION:QMAP Training Center\, 1361 Francis St. STE B-107\, Longmont\, CO\, 80501\, United States
CATEGORIES:QMAP Standard 2-day Class
END:VEVENT
BEGIN:VEVENT
DTSTART;TZID=America/Denver:20250723T090000
DTEND;TZID=America/Denver:20250724T140000
DTSTAMP:20260419T175435
CREATED:20250516T171041Z
LAST-MODIFIED:20250709T134831Z
UID:10001717-1753261200-1753365600@qmapclass.com
SUMMARY:QMAP In Person Course – Longmont Colorado
DESCRIPTION:Instructor: Sharon Tynsky\, LPN \nHOURS:  DAY1\, 9AM TO 430 PM\, DAY 2\, 9AM TO COMPLETION (APPROX 1:30PM)
URL:https://qmapclass.com/class/qmap-in-person-course-longmont-colorado-104/
LOCATION:QMAP Training Center\, 1361 Francis St. STE B-107\, Longmont\, CO\, 80501\, United States
CATEGORIES:QMAP Standard 2-day Class
ATTACH;FMTTYPE=image/png:https://qmapclass.com/wp-content/uploads/2021/12/QMAP.png
END:VEVENT
BEGIN:VEVENT
DTSTART;TZID=America/Denver:20250730T090000
DTEND;TZID=America/Denver:20250731T140000
DTSTAMP:20260419T175435
CREATED:20250516T172604Z
LAST-MODIFIED:20250730T021933Z
UID:10001723-1753866000-1753970400@qmapclass.com
SUMMARY:QMAP In Person Course – Arvada Colorado
DESCRIPTION:Instructor: Sharon Tynsky\, LPN\n\n\n\nHOURS:  DAY1\, 9AM TO 430 PM\, DAY 2\, 9AM TO COMPLETION (APPROX 1:30PM)
URL:https://qmapclass.com/class/qmap-in-person-course-arvada-colorado-7/
LOCATION:Arvada – Applewood Our House\, 6595 Garrison Street\, Arvada\, CO\, 80004
CATEGORIES:QMAP Standard 2-day Class
ATTACH;FMTTYPE=image/png:https://qmapclass.com/wp-content/uploads/2021/12/QMAP.png
END:VEVENT
END:VCALENDAR